BEGIN:VCALENDAR
VERSION:2.0
PRODID:-//Augusta Vin - Fredericksburg TX Winery - ECPv6.15.20//NONSGML v1.0//EN
CALSCALE:GREGORIAN
METHOD:PUBLISH
X-ORIGINAL-URL:https://augustavin.com
X-WR-CALDESC:Events for Augusta Vin - Fredericksburg TX Winery
REFRESH-INTERVAL;VALUE=DURATION:PT1H
X-Robots-Tag:noindex
X-PUBLISHED-TTL:PT1H
BEGIN:VTIMEZONE
TZID:America/Chicago
BEGIN:DAYLIGHT
TZOFFSETFROM:-0600
TZOFFSETTO:-0500
TZNAME:CDT
DTSTART:20250309T080000
END:DAYLIGHT
BEGIN:STANDARD
TZOFFSETFROM:-0500
TZOFFSETTO:-0600
TZNAME:CST
DTSTART:20251102T070000
END:STANDARD
BEGIN:DAYLIGHT
TZOFFSETFROM:-0600
TZOFFSETTO:-0500
TZNAME:CDT
DTSTART:20260308T080000
END:DAYLIGHT
BEGIN:STANDARD
TZOFFSETFROM:-0500
TZOFFSETTO:-0600
TZNAME:CST
DTSTART:20261101T070000
END:STANDARD
BEGIN:DAYLIGHT
TZOFFSETFROM:-0600
TZOFFSETTO:-0500
TZNAME:CDT
DTSTART:20270314T080000
END:DAYLIGHT
BEGIN:STANDARD
TZOFFSETFROM:-0500
TZOFFSETTO:-0600
TZNAME:CST
DTSTART:20271107T070000
END:STANDARD
END:VTIMEZONE
BEGIN:VEVENT
DTSTART;TZID=America/Chicago:20260912T120000
DTEND;TZID=America/Chicago:20260912T150000
DTSTAMP:20260424T151111
CREATED:20260413T181507Z
LAST-MODIFIED:20260413T181507Z
UID:9699-1789214400-1789225200@augustavin.com
SUMMARY:Emmanuel Tomes
DESCRIPTION:
URL:https://augustavin.com/event/emmanuel-tomes-5/
LOCATION:Augusta Vin\, 140 Augusta Vin Ln.\, Fredericksburg\, TX\, 78624\, United States
ATTACH;FMTTYPE=image/webp:https://augustavin.com/wp-content/uploads/2026/02/images.webp
END:VEVENT
BEGIN:VEVENT
DTSTART;TZID=America/Chicago:20260912T153000
DTEND;TZID=America/Chicago:20260912T183000
DTSTAMP:20260424T151111
CREATED:20260413T181625Z
LAST-MODIFIED:20260413T181625Z
UID:9700-1789227000-1789237800@augustavin.com
SUMMARY:Nalani Caballero
DESCRIPTION:
URL:https://augustavin.com/event/nalani-caballero-7/
LOCATION:Augusta Vin\, 140 Augusta Vin Ln.\, Fredericksburg\, TX\, 78624\, United States
ATTACH;FMTTYPE=image/jpeg:https://augustavin.com/wp-content/uploads/2026/02/Untitled-design-2.jpg
END:VEVENT
END:VCALENDAR