BEGIN:VCALENDAR
VERSION:2.0
PRODID:-//Augusta Vin - Fredericksburg TX Winery - ECPv6.15.20//NONSGML v1.0//EN
CALSCALE:GREGORIAN
METHOD:PUBLISH
X-WR-CALNAME:Augusta Vin - Fredericksburg TX Winery
X-ORIGINAL-URL:https://augustavin.com
X-WR-CALDESC:Events for Augusta Vin - Fredericksburg TX Winery
REFRESH-INTERVAL;VALUE=DURATION:PT1H
X-Robots-Tag:noindex
X-PUBLISHED-TTL:PT1H
BEGIN:VTIMEZONE
TZID:America/Chicago
BEGIN:DAYLIGHT
TZOFFSETFROM:-0600
TZOFFSETTO:-0500
TZNAME:CDT
DTSTART:20250309T080000
END:DAYLIGHT
BEGIN:STANDARD
TZOFFSETFROM:-0500
TZOFFSETTO:-0600
TZNAME:CST
DTSTART:20251102T070000
END:STANDARD
BEGIN:DAYLIGHT
TZOFFSETFROM:-0600
TZOFFSETTO:-0500
TZNAME:CDT
DTSTART:20260308T080000
END:DAYLIGHT
BEGIN:STANDARD
TZOFFSETFROM:-0500
TZOFFSETTO:-0600
TZNAME:CST
DTSTART:20261101T070000
END:STANDARD
BEGIN:DAYLIGHT
TZOFFSETFROM:-0600
TZOFFSETTO:-0500
TZNAME:CDT
DTSTART:20270314T080000
END:DAYLIGHT
BEGIN:STANDARD
TZOFFSETFROM:-0500
TZOFFSETTO:-0600
TZNAME:CST
DTSTART:20271107T070000
END:STANDARD
END:VTIMEZONE
BEGIN:VEVENT
DTSTART;TZID=America/Chicago:20260621T120000
DTEND;TZID=America/Chicago:20260621T150000
DTSTAMP:20260422T060857
CREATED:20260226T110035Z
LAST-MODIFIED:20260407T173254Z
UID:9549-1782043200-1782054000@augustavin.com
SUMMARY:Landry Ritter
DESCRIPTION:
URL:https://augustavin.com/event/landry-ritter-4/
LOCATION:Augusta Vin\, 140 Augusta Vin Ln.\, Fredericksburg\, TX\, 78624\, United States
ATTACH;FMTTYPE=image/jpeg:https://augustavin.com/wp-content/uploads/2026/02/landry-ritter.jpg
END:VEVENT
BEGIN:VEVENT
DTSTART;TZID=America/Chicago:20260621T153000
DTEND;TZID=America/Chicago:20260621T183000
DTSTAMP:20260422T060858
CREATED:20260226T110837Z
LAST-MODIFIED:20260407T170447Z
UID:9550-1782055800-1782066600@augustavin.com
SUMMARY:Ryan Shepard
DESCRIPTION:
URL:https://augustavin.com/event/ryan-shepard-7/
LOCATION:Augusta Vin\, 140 Augusta Vin Ln.\, Fredericksburg\, TX\, 78624\, United States
ATTACH;FMTTYPE=image/jpeg:https://augustavin.com/wp-content/uploads/2026/02/ryan-shepard.jpg
END:VEVENT
END:VCALENDAR