BEGIN:VCALENDAR
VERSION:2.0
PRODID:-//Augusta Vin - Fredericksburg TX Winery - ECPv6.15.20//NONSGML v1.0//EN
CALSCALE:GREGORIAN
METHOD:PUBLISH
X-WR-CALNAME:Augusta Vin - Fredericksburg TX Winery
X-ORIGINAL-URL:https://augustavin.com
X-WR-CALDESC:Events for Augusta Vin - Fredericksburg TX Winery
REFRESH-INTERVAL;VALUE=DURATION:PT1H
X-Robots-Tag:noindex
X-PUBLISHED-TTL:PT1H
BEGIN:VTIMEZONE
TZID:America/Chicago
BEGIN:DAYLIGHT
TZOFFSETFROM:-0600
TZOFFSETTO:-0500
TZNAME:CDT
DTSTART:20250309T080000
END:DAYLIGHT
BEGIN:STANDARD
TZOFFSETFROM:-0500
TZOFFSETTO:-0600
TZNAME:CST
DTSTART:20251102T070000
END:STANDARD
BEGIN:DAYLIGHT
TZOFFSETFROM:-0600
TZOFFSETTO:-0500
TZNAME:CDT
DTSTART:20260308T080000
END:DAYLIGHT
BEGIN:STANDARD
TZOFFSETFROM:-0500
TZOFFSETTO:-0600
TZNAME:CST
DTSTART:20261101T070000
END:STANDARD
BEGIN:DAYLIGHT
TZOFFSETFROM:-0600
TZOFFSETTO:-0500
TZNAME:CDT
DTSTART:20270314T080000
END:DAYLIGHT
BEGIN:STANDARD
TZOFFSETFROM:-0500
TZOFFSETTO:-0600
TZNAME:CST
DTSTART:20271107T070000
END:STANDARD
END:VTIMEZONE
BEGIN:VEVENT
DTSTART;TZID=America/Chicago:20260614T120000
DTEND;TZID=America/Chicago:20260614T150000
DTSTAMP:20260420T073526
CREATED:20260226T104905Z
LAST-MODIFIED:20260407T172558Z
UID:9544-1781438400-1781449200@augustavin.com
SUMMARY:Dillon Havins
DESCRIPTION:
URL:https://augustavin.com/event/dillon-havins-7/
LOCATION:Augusta Vin\, 140 Augusta Vin Ln.\, Fredericksburg\, TX\, 78624\, United States
ATTACH;FMTTYPE=image/jpeg:https://augustavin.com/wp-content/uploads/2026/02/dillon-havins.jpg
END:VEVENT
BEGIN:VEVENT
DTSTART;TZID=America/Chicago:20260614T153000
DTEND;TZID=America/Chicago:20260614T183000
DTSTAMP:20260420T073526
CREATED:20260226T105149Z
LAST-MODIFIED:20260407T173701Z
UID:9545-1781451000-1781461800@augustavin.com
SUMMARY:Fallon Franklin
DESCRIPTION:
URL:https://augustavin.com/event/fallon-franklin-3/
LOCATION:Augusta Vin\, 140 Augusta Vin Ln.\, Fredericksburg\, TX\, 78624\, United States
ATTACH;FMTTYPE=image/jpeg:https://augustavin.com/wp-content/uploads/2026/02/fallon-franklin.jpg
END:VEVENT
END:VCALENDAR