BEGIN:VCALENDAR
VERSION:2.0
PRODID:-//Augusta Vin - Fredericksburg TX Winery - ECPv6.15.20//NONSGML v1.0//EN
CALSCALE:GREGORIAN
METHOD:PUBLISH
X-WR-CALNAME:Augusta Vin - Fredericksburg TX Winery
X-ORIGINAL-URL:https://augustavin.com
X-WR-CALDESC:Events for Augusta Vin - Fredericksburg TX Winery
REFRESH-INTERVAL;VALUE=DURATION:PT1H
X-Robots-Tag:noindex
X-PUBLISHED-TTL:PT1H
BEGIN:VTIMEZONE
TZID:America/Chicago
BEGIN:DAYLIGHT
TZOFFSETFROM:-0600
TZOFFSETTO:-0500
TZNAME:CDT
DTSTART:20250309T080000
END:DAYLIGHT
BEGIN:STANDARD
TZOFFSETFROM:-0500
TZOFFSETTO:-0600
TZNAME:CST
DTSTART:20251102T070000
END:STANDARD
BEGIN:DAYLIGHT
TZOFFSETFROM:-0600
TZOFFSETTO:-0500
TZNAME:CDT
DTSTART:20260308T080000
END:DAYLIGHT
BEGIN:STANDARD
TZOFFSETFROM:-0500
TZOFFSETTO:-0600
TZNAME:CST
DTSTART:20261101T070000
END:STANDARD
BEGIN:DAYLIGHT
TZOFFSETFROM:-0600
TZOFFSETTO:-0500
TZNAME:CDT
DTSTART:20270314T080000
END:DAYLIGHT
BEGIN:STANDARD
TZOFFSETFROM:-0500
TZOFFSETTO:-0600
TZNAME:CST
DTSTART:20271107T070000
END:STANDARD
END:VTIMEZONE
BEGIN:VEVENT
DTSTART;TZID=America/Chicago:20260411T120000
DTEND;TZID=America/Chicago:20260411T150000
DTSTAMP:20260420T043127
CREATED:20260226T060053Z
LAST-MODIFIED:20260331T181226Z
UID:9498-1775908800-1775919600@augustavin.com
SUMMARY:Jeff Wood
DESCRIPTION:
URL:https://augustavin.com/event/jeff-wood-3/
LOCATION:Augusta Vin\, 140 Augusta Vin Ln.\, Fredericksburg\, TX\, 78624\, United States
ATTACH;FMTTYPE=image/avif:https://augustavin.com/wp-content/uploads/2026/02/jeff-wood.avif
END:VEVENT
BEGIN:VEVENT
DTSTART;TZID=America/Chicago:20260411T153000
DTEND;TZID=America/Chicago:20260411T183000
DTSTAMP:20260420T043127
CREATED:20260226T060636Z
LAST-MODIFIED:20260331T183210Z
UID:9499-1775921400-1775932200@augustavin.com
SUMMARY:Nalani Caballero
DESCRIPTION:
URL:https://augustavin.com/event/nalani-caballero-2/
LOCATION:Augusta Vin\, 140 Augusta Vin Ln.\, Fredericksburg\, TX\, 78624\, United States
ATTACH;FMTTYPE=image/jpeg:https://augustavin.com/wp-content/uploads/2026/02/Untitled-design-2.jpg
END:VEVENT
END:VCALENDAR